BEGIN:VCALENDAR
VERSION:2.0
PRODID:icalendar-ruby
CALSCALE:GREGORIAN
BEGIN:VTIMEZONE
TZID:America/New_York
BEGIN:DAYLIGHT
DTSTART:20260308T030000
TZOFFSETFROM:-0500
TZOFFSETTO:-0400
RRULE:FREQ=YEARLY;BYDAY=2SU;BYMONTH=3
TZNAME:EDT
END:DAYLIGHT
BEGIN:STANDARD
DTSTART:20261101T010000
TZOFFSETFROM:-0400
TZOFFSETTO:-0500
RRULE:FREQ=YEARLY;BYDAY=1SU;BYMONTH=11
TZNAME:EST
END:STANDARD
END:VTIMEZONE
BEGIN:VEVENT
DTSTAMP:20260423T115406Z
UID:0392f748-e98a-4812-a7a6-44566234186a
DTSTART;TZID=America/New_York:20260426T170000
DTEND;TZID=America/New_York:20260426T200000
DESCRIPTION:
LOCATION:Squid Lips - 1477 Pineapple Avenue\, Melbourne\, FL\, 32935\, US
SUMMARY:Heatstroke at Squid Lips
END:VEVENT
END:VCALENDAR
